BEGIN:VCALENDAR
VERSION:2.0
PRODID:-//North Eastern Counties Athletics Association - ECPv6.15.20//NONSGML v1.0//EN
CALSCALE:GREGORIAN
METHOD:PUBLISH
X-WR-CALNAME:North Eastern Counties Athletics Association
X-ORIGINAL-URL:https://necaa.co.uk
X-WR-CALDESC:Events for North Eastern Counties Athletics Association
REFRESH-INTERVAL;VALUE=DURATION:PT1H
X-Robots-Tag:noindex
X-PUBLISHED-TTL:PT1H
BEGIN:VTIMEZONE
TZID:UTC
BEGIN:STANDARD
TZOFFSETFROM:+0000
TZOFFSETTO:+0000
TZNAME:UTC
DTSTART:20250101T000000
END:STANDARD
END:VTIMEZONE
BEGIN:VEVENT
DTSTART;TZID=UTC:20260509T100000
DTEND;TZID=UTC:20260510T170000
DTSTAMP:20260424T130502
CREATED:20260320T115448Z
LAST-MODIFIED:20260325T082430Z
UID:2445-1778320800-1778432400@necaa.co.uk
SUMMARY:NECAA Track and Field Championships 2026
DESCRIPTION:NORTH EASTERN COUNTIES ATHLETIC ASSOCIATION \nTrack And Field Championships 2026 \nShildon Stadium\,  Middridge Lane\, Shildon DL4 2EP \n(Under UKA Rules         Permit Number; Applied For) \nSaturday 9th May 2026                                 First Event 10:00am \nSenior Men                  100m\, 400m\, 1500m\, 110mH\, Discus\, Shot putt\, Triple jump\, Pole vault \nSenior Women            200m\, 800m\, 5000m\, 100mH\, Discus\, Javelin\, Long jump\, Pole vault \nUnder 20 Men             100m\, 400m\, 1500m\, 110mH\, Discus\, Shot putt\, Triple jump\, Pole vault \nUnder 20 Women       200m\, 800m\, 5000m\, 100mH\, Discus\, Javelin\, Long jump\, Pole vault \nUnder 18 Men             100m\, 400m\, 1500m\, 110mH\, Discus\, Shot putt\, Triple jump\, Pole vault \nUnder 18 Women       200m\, 800m\, 3000m\, 100mH\, Discus\, Javelin\, Long jump\, Pole vault \nUnder 16 Boys            100m\, 300m\, 1500m\, 100mH\, Discus\, Shot putt\, High jump\, Triple jump\, Pole vault \nUnder 16 Girls             200m\, 800m\, 3000m\, 80mH\, Discus\, Javelin\, High jump\, Pole vault \nUnder 14 Boys            100m\, 1500m\, 80mH\, High jump\, Discus \nUnder 14 Girls             200m\, 800m\, 75mH\, Long jump\, Discus\, Javelin \nAmbulant Athletes (All Age Categories) 100m \nSeated Club\, Seated Javelin\, Seated Shot\, Seated Discus                           \nCan Ambulant Athletes please put their classification when they enter \n  \nSunday 10th May 2026                                 First Event 10:00am \nSenior Men                  200m\, 800m\, 400mH\, 5000m\, High jump\, Long jump\, Javelin\, Hammer \nSenior Women            100m\, 400m\, 1500m\, 400mH\, High jump\, Triple jump\, Shot putt\, Hammer \nUnder 20 Men             200m\, 800m\, 5000m\, 400mH\, High jump\, Long jump\, Javelin\, Hammer \nUnder 20 Women       100m\, 400m\, 1500m\, 400mH\, High jump\, Triple jump\, Shot putt\, Hammer \nUnder 18 Men             200m\, 800m\, 3000m\, 400mH\, High jump\, Long jump\, Javelin\, Hammer \nUnder 18 Women       100m\, 300m\, 1500m\, 400mH\, High jump\, Triple jump\, Shot putt\, Hammer \nUnder 16 Boys            200m\, 800m\, 3000m\, 300mH\, Long jump\, Javelin\, Hammer \nUnder 16 Girls             100m\, 300M\, 1500m\, 300mH\, Long jump\, Triple jump\, Shot putt\, Hammer \nUnder 14 Boys            200m\, 800m\, 200mH\, Long jump\, Shot putt\, Javelin \nUnder 14 Girls             100m\, 1500m\, 200mH\, High jump\, Shot putt \n  \nUnder 14 Competition is confined to athletes aged 12 and 13 at midnight on 31/08/2026 – maximum 3 events per day \nUnder 16 Competition is confined to athletes aged 14 and 15 at midnight on 31/08/2026 – maximum 3 events per day \nUnder 18 Competition is confined to athletes aged 16 and 17 at midnight on 31/08/2026 – maximum 3 events per day \nUnder 20 Competition is confined to athletes aged 18 and 19 at midnight on 31/08/2026 \nSenior Competition is for athletes aged at least 20 years of age on 31/12/2026 \n                    \n                     Note: NECAA reserve the right to cancel any event for which insufficient entries are received \nConditions of Entry (please read carefully) \nThis event is confined to athletes who were born or have continuously resided\, for at least nine months prior to the competition\, within the counties of Northumberland\, Durham\, Cleveland\, Tyne & Wear or Teesside. The NECAA are operating under UKA Rule 21 S6 as one County and clubs must abide by those rules regarding qualifications and any other matters \nEntries are welcome from non NECAA competitors\, however\, in those events for which heats and finals are held\, such competitors may not displace NECAA athletes from any subsequent heat or final. \n  \n                                N.B this does not qualify students who have resided during term time alone. \n  \n  \n  \nWe can only accept online entries\, as this is a Championship event there will be no entries accepted after the closing date  \n  \n  \nWe are using England Athletics entry system Roster Athletics\, search North Eastern for all NECAA events. Details how to use Roster can be found here: https://necaa.co.uk/2023/06/909/ \n  \nClosing date for entries is Wednesday 22nd April 2026 \n  \nEntry costs £9.00 per event \n  \nPlease Note the starting heights for the following events; \n                     \n\n\n\n\nStarting\n\nStarting\n\n\n\nHeight \n\nHeight \n\n\nHigh Jump\n\nPole Vault\n\n\n\nUnder 14 Girls\n1.06\n\n\n\n\nUnder 16 Girls\n1.16\nUnder 16 Girls\n1.70\n\n\nUnder 18 Women\n1.26\nUnder 18 Women\n1.70\n\n\nUnder 20 Women\n1.31\nUnder 20 Women\n1.81\n\n\nSenior Women\n1.31\nSenior Women\n1.81\n\n\nUnder 14 Boys\n1.06\n\n\n\n\nUnder 16 Boys\n1.26\nUnder 16 Boys\n1.76\n\n\nUnder 18 Men\n1.36\nUnder 18 Men\n1.76\n\n\nUnder 20 Men\n1.51\nUnder 20 Men\n2.11\n\n\nSenior Men\n1.51\nSenior Men\n2.11\n\n\nTriple Jump Boards for North East Championships:\n\n\n\nSM/U20M  9m / 11m / 13m\n\n\n\n\nAll other age groups (and Women) 7m / 9m / 11m / 13m\n\n\n\n\n  \n  \nAny competitor who achieves a place in a Saturday final but does not take part in that final without giving a valid reason to the Chief Track Judge may be debarred from competing in any event on the Sunday [UKA Rule 142(4)] \n  \nAthletes may compete in the Championships of only one County Association in any one calendar year.
URL:https://necaa.co.uk/event/necaa-track-and-field-championships-2026/
LOCATION:Shildon Athletics Stadium\, Middridge Lane\, Shildon\, County Durham\, DL4 2EP\, United Kingdom
CATEGORIES:NECAA Track and Field Championships
ATTACH;FMTTYPE=image/jpeg:https://necaa.co.uk/wp-content/uploads/1500-metres-59-1-1.jpg
END:VEVENT
END:VCALENDAR