BEGIN:VCALENDAR
VERSION:2.0
PRODID:-//North Eastern Counties Athletics Association - ECPv6.15.20//NONSGML v1.0//EN
CALSCALE:GREGORIAN
METHOD:PUBLISH
X-WR-CALNAME:North Eastern Counties Athletics Association
X-ORIGINAL-URL:https://necaa.co.uk
X-WR-CALDESC:Events for North Eastern Counties Athletics Association
REFRESH-INTERVAL;VALUE=DURATION:PT1H
X-Robots-Tag:noindex
X-PUBLISHED-TTL:PT1H
BEGIN:VTIMEZONE
TZID:UTC
BEGIN:STANDARD
TZOFFSETFROM:+0000
TZOFFSETTO:+0000
TZNAME:UTC
DTSTART:20220101T000000
END:STANDARD
END:VTIMEZONE
BEGIN:VEVENT
DTSTART;TZID=UTC:20230712T180000
DTEND;TZID=UTC:20230712T210000
DTSTAMP:20260424T193655
CREATED:20230412T105449Z
LAST-MODIFIED:20230428T111600Z
UID:534-1689184800-1689195600@necaa.co.uk
SUMMARY:NEGP Match 4
DESCRIPTION:WEDNESDAY 12th JULY       6.30 p.m            MONKTON           \nEntries cost £5 per event with a max of 2 events per competitor \nTRACK EVENTS: Please ensure you give a PB/estimated time to be placed in the correct seeded race. Any entries received without a time will be placed in the slower heats. Times can be updated up to 7pm on the Sunday prior to the match by emailing masterstracksec@gmail.com or via the Spond app. \n\nSen/U20 Men 110m Hurdles\nU17Men & U20/SenW 100m Hurdles\n200m\n800m\n3\,000m (no under 13s)\n\nFIELD EVENTS: \nHigh Jump \nShot Putt \nHammer (no under 13s) \nDiscus \nEntries open from 19.00 hrs 21st June – 19.00 hrs 5th July \nPlease note the link shown below will not become active until the time and date shown above
URL:https://necaa.co.uk/event/negp-match-4/
LOCATION:Monkton Stadium\, 54 Dene Terrace\, Hebburn\, Jarrow\, NE32 5NJ
CATEGORIES:NEGP
END:VEVENT
BEGIN:VEVENT
DTSTART;TZID=UTC:20230614T180000
DTEND;TZID=UTC:20230614T210000
DTSTAMP:20260424T193655
CREATED:20230412T105305Z
LAST-MODIFIED:20230428T111539Z
UID:532-1686765600-1686776400@necaa.co.uk
SUMMARY:NEGP Match 3
DESCRIPTION:WEDNESDAY 14th JUNE       6.30 p.m.            MONKTON \nAll events £5 each. Maximum of 2 events per athlete per match \nTRACK EVENTS: Please ensure you give a PB/estimated time to be placed in the correct seeded race. Any entries received without a time will be placed in the slower heats. Times can be updated up to 7pm on the Sunday prior to the match by emailing masterstracksec@gmail.com or via the Spond app. \n\nU15 Boys/U17 Women 80m Hurdles\n100m\n300m (U15B/U15G/U17W only)\n400m (no U13s)\n1 mile (winner holds Stan Long trophy for 1 year)\nU17/U20/Senior Men 2K S/Chase\,\n\nFIELD EVENTS: \n\nHigh Jump\nShot Putt\nLong\nTriple Jump (no U13s)\nPole Vault\n\nEntries open from 19.00 hrs 24th May – 19.00 hrs 7th June \nPlease note that link shown below will not be active until the date and time shown above
URL:https://necaa.co.uk/event/negp-match-3/
LOCATION:Monkton Stadium\, 54 Dene Terrace\, Hebburn\, Jarrow\, NE32 5NJ
CATEGORIES:NEGP
END:VEVENT
BEGIN:VEVENT
DTSTART;TZID=UTC:20230531T183000
DTEND;TZID=UTC:20230531T210000
DTSTAMP:20260424T193655
CREATED:20230430T230053Z
LAST-MODIFIED:20230507T035530Z
UID:709-1685557800-1685566800@necaa.co.uk
SUMMARY:NECAA 10\,000m Championships 31st May 2023
DESCRIPTION:Churchill Track\, Churchill Play Fields\, Hartley Ave\, Whitley Bay NE26 3NT \n(Under UKA Rules                        Permit Number: OUT23/268) \n  \nConditions of Entry (please read carefully) \nThese events are confined to eligible athletes born\, or having bona fide residence for nine months prior to the date of the competition\, in the counties of Northumberland\, Durham\, Tyne & Wear or Cleveland. \nAthletes may compete in the Championships of only one County Association in any one calendar year. Term time only university residence does not qualify. \n  \nEntries are welcome from non NECAA competitors\, however\, they may not displace NECAA athletes from medals.  \nENTRY VIA ROSTER ATHLETICS \nor HERE (non-Roster) ENTRY \nWe can only accept online entries and these will be on a first come first served basis. Entries will be closed as soon as the maximum number of entries are reached \n  \nThere will be no entries accepted on the day due to the volume of pre-entries. Events may close early if capacity is reached. No late entries will be accepted. Closing date for entries is Saturday 27th May 2023 \n  \nEntry costs £8.50 per event \n  \n  \nPresentations will take place\, as soon as possible\, after event has been completed and results verified \n  \n                                                                                      IMPORTANT \nNUMBERS MUST BE COLLECTED FROM REGISTRATION AT LEAST 30 MINUTES BEFORE THE START OF YOUR EVENT.  FAILURE TO DO SO MAY RESULT IN YOU BEING EXCLUDED FROM THE EVENT. \n  \nSeeding \nAthletes should declare PB’s for their event to ensure the best possible seeding of races and bands. Athletes who do not enter a seed mark are at risk of being seeded together in mixed ability races and bands. Times that cannot be verified on www.thepowerof10.info may be removed. An athlete’s best performance in the last eighteen months will be considered. \n  \n                                                                                        \n                                                                                 Club Vests must be worn
URL:https://necaa.co.uk/event/necaa-10000m-championships-31st-may-2023/
LOCATION:Churchill Track\, Churchill Playing Fields\, Hartley Avenue\, Whitley Bay\, Tyne and Wear\, NE26 3NT\, United Kingdom
ATTACH;FMTTYPE=image/jpeg:https://necaa.co.uk/wp-content/uploads/track10000-e1683112699655.jpg
END:VEVENT
BEGIN:VEVENT
DTSTART;TZID=UTC:20230524T180000
DTEND;TZID=UTC:20230524T210000
DTSTAMP:20260424T193655
CREATED:20230412T104856Z
LAST-MODIFIED:20230428T111508Z
UID:528-1684951200-1684962000@necaa.co.uk
SUMMARY:NEGP Match 2
DESCRIPTION:WEDNESDAY 24th MAY        6.30 p.m.          MONKTON  \nTRACK EVENTS: Please ensure you give a PB/estimated time to be placed in the correct seeded race. Any entries received without a time will be placed in the slower heats. Times can be updated up to 7pm on the Sunday prior to the match by emailing masterstracksec@gmail.com or via the Spond app. \n\nU13 girls 70m hurdles\nU13 boys/U15 Girls 75m hurdles\n200m\n800m (winner holds Jimmy Hedley trophy for 1 year)\n3\,000m\nU17\, U20\, Senior women 1500m Steeplechase\n\nFIELD EVENTS: \n\nHigh Jump\nShot Putt\nHammer (no under 13’s)\nDiscus.\n\nEntries open from 19.00 hrs 3rd May – 19.00 hrs 17th May – please note the link shown in the event website below will not be active until entries open.
URL:https://necaa.co.uk/event/negp-match-2/
LOCATION:Monkton Stadium\, 54 Dene Terrace\, Hebburn\, Jarrow\, NE32 5NJ
CATEGORIES:NEGP
END:VEVENT
BEGIN:VEVENT
DTSTART;TZID=UTC:20230514T090000
DTEND;TZID=UTC:20230514T180000
DTSTAMP:20260424T193655
CREATED:20230327T071034Z
LAST-MODIFIED:20230428T103617Z
UID:160-1684054800-1684087200@necaa.co.uk
SUMMARY:NECAA Outdoor Championships Day 2
DESCRIPTION:NECAA Track and Field Champs 2023 entry form \nPin Posts
URL:https://necaa.co.uk/event/necaa-outdoor-championships-day-2/
LOCATION:Middlesbrough Sports Village\, Alan Peacock Way\, Middlesbrough\, England\, TS4 3AE\, United Kingdom
END:VEVENT
BEGIN:VEVENT
DTSTART;TZID=UTC:20230513T090000
DTEND;TZID=UTC:20230513T180000
DTSTAMP:20260424T193655
CREATED:20230327T061737Z
LAST-MODIFIED:20230428T103527Z
UID:127-1683968400-1684000800@necaa.co.uk
SUMMARY:NECAA Outdoor Championships Day 1
DESCRIPTION:NECAA Track and Field Champs 2023 entry form \nPin Posts \n \n 
URL:https://necaa.co.uk/event/necaa-outdoor-championships-day-1/
LOCATION:Middlesbrough Sports Village\, Alan Peacock Way\, Middlesbrough\, England\, TS4 3AE\, United Kingdom
END:VEVENT
BEGIN:VEVENT
DTSTART;TZID=UTC:20230426T180000
DTEND;TZID=UTC:20230426T210000
DTSTAMP:20260424T193655
CREATED:20230422T105616Z
LAST-MODIFIED:20230422T105934Z
UID:606-1682532000-1682542800@necaa.co.uk
SUMMARY:NEGP Match 1
DESCRIPTION:
URL:https://necaa.co.uk/event/negp-match-1/
LOCATION:County Durham
END:VEVENT
END:VCALENDAR