BEGIN:VCALENDAR
VERSION:2.0
PRODID:-//North Eastern Counties Athletics Association - ECPv6.15.20//NONSGML v1.0//EN
CALSCALE:GREGORIAN
METHOD:PUBLISH
X-WR-CALNAME:North Eastern Counties Athletics Association
X-ORIGINAL-URL:https://necaa.co.uk
X-WR-CALDESC:Events for North Eastern Counties Athletics Association
REFRESH-INTERVAL;VALUE=DURATION:PT1H
X-Robots-Tag:noindex
X-PUBLISHED-TTL:PT1H
BEGIN:VTIMEZONE
TZID:UTC
BEGIN:STANDARD
TZOFFSETFROM:+0000
TZOFFSETTO:+0000
TZNAME:UTC
DTSTART:20220101T000000
END:STANDARD
END:VTIMEZONE
BEGIN:VEVENT
DTSTART;TZID=UTC:20260329T100000
DTEND;TZID=UTC:20260329T170000
DTSTAMP:20260424T181810
CREATED:20260202T145258Z
LAST-MODIFIED:20260328T210627Z
UID:2378-1774778400-1774803600@necaa.co.uk
SUMMARY:NECAA Open Indoor Pentathlon Championships
DESCRIPTION:  \n \nEntries for this competition are via Roster Athletics
URL:https://necaa.co.uk/event/necaa-open-indoor-pentathlon-championships/
LOCATION:Gateshead College Indoor Athletics Hall\, Neilson Road\, Gateshead\, ne10 0ef\, United Kingdom
CATEGORIES:NECAA Indoor,Pentathlon
ATTACH;FMTTYPE=image/jpeg:https://necaa.co.uk/wp-content/uploads/indoors-presentations.jpg
END:VEVENT
BEGIN:VEVENT
DTSTART;TZID=UTC:20250913T100000
DTEND;TZID=UTC:20250913T170000
DTSTAMP:20260424T181810
CREATED:20250806T073156Z
LAST-MODIFIED:20250806T211729Z
UID:2215-1757757600-1757782800@necaa.co.uk
SUMMARY:NECAA Pentathlon
DESCRIPTION:Saturday 13th September 2025 @ Monkton Stadium \nFirst event 10:00am\nSenior Men Discus\, Long Jump\, 200m\, Javelin and 1500 metres\nSenior Women Shot Putt\, Long Jump\, 100m Hurdles\, High Jump\, 800 metres\nunder 20 Men Discus\, Long Jump\, 200m\, Javelin and 1500 metres\nunder 20 Women Shot Putt\, Long Jump\, 100m Hurdles\, High Jump\, 800 metres\nunder 17 Men Discus\, Long Jump\, 200m\, Javelin and 1500 metres\nunder 17 Women 80 metres Hurdles\, Long Jump\, High Jump\, Shot Putt and 800 metres\nunder 15 Boys 80 metres Hurdles\, Long Jump\, High Jump\, Shot Putt and 800 metres\nunder 15 Girls 75 metres Hurdles\, Long Jump\, High Jump\, Shot Putt and 800 metres\nunder 13 Boys 75 metres Hurdles\, Long Jump\, High Jump\, Shot Putt and 800 metres\nunder 13 Girls 70 metres Hurdles\, Long Jump\, High Jump\, Shot Putt and 800 metres \nCONDITIONS OF ENTRY ( Please read these most carefully )\nThe event is an open event incorporating the North Eastern Counties A.A. Championships 2025. Eligibility for the NECAA\nevent is confined to athletes born\, or having bone-fide residence for nine months prior to the date of the competition in the counties of\nNorthumberland\, Durham\, Tyne & Wear or Cleveland. Competitors may compete in the Championships of only one County Association in any one calendar year. Residential qualification for persons serving in H.M. Forces is nine months. Uni. residence during term time only does not qualify. All NECAA athletes are eligible for the open pentathlon event as well as the NECAA Championships. \nUnder 13 Boys / Girls qualification Under 13 Championships are confined to athletes who are aged 11 and 12 at midnight on 31st August 2025 \nUnder 15 Boys / Girls qualification Under 15 Championships are confined to athletes who are aged 13 and 14 at midnight on 31st August 2025 \nUnder 17 Men / Women qualification Under 17 Championships are confined to athletes who are aged 15 and 16 at midnight on 31st August 2025 \nUnder 20 Men / Women qualification Under 20 Championships are confined to athletes who are aged 17 or over at midnight on 31st August 2025 but under 20 at midnight on 31st December 2025. \nSenior Men / Women qualification The Senior Championships are for athletes who are at least 20 years of age on 31st December 2025 \nAthletes must wear the vest of their first-claim affiliated club\, or their County\, Territorial or National vest\, uka rule 17(3) \nEquipment : Throwing event competitors may use any implements provided for general use. Those who wish to use their own implements must\nsubmit them to the Referee for approval. An athlete may not use another’s implement without the owners prior permission. \nEnquiries to Keith Willshire: willshire69@gmail.com \nPlease Note; Entry Numbers to the Open pentathlon will be restricted to the first 100\nOnline Entry only at Roster Athletics\nEntry Fees : £25. Closing date for entries : Monday 1st September 2025\nTimetable and entries will be published on www.necaa.co.uk wc Monday 1st September
URL:https://necaa.co.uk/event/necaa-pentathlon/
LOCATION:Monkton Stadium\, 54 Dene Terrace\, Hebburn\, Jarrow\, NE32 5NJ
CATEGORIES:Pentathlon
ATTACH;FMTTYPE=image/jpeg:https://necaa.co.uk/wp-content/uploads/1500-metres-59.jpg
END:VEVENT
BEGIN:VEVENT
DTSTART;TZID=UTC:20230916T100000
DTEND;TZID=UTC:20230916T170000
DTSTAMP:20260424T181810
CREATED:20230718T200023Z
LAST-MODIFIED:20230718T202709Z
UID:1033-1694858400-1694883600@necaa.co.uk
SUMMARY:NECAA Open Pentathlon Championships September 16th 2023
DESCRIPTION:This event will take place at Monkton Stadium\, Jarrow on Saturday 16th September. All entries can be made on the Roster Athletics platform If the link doesn’t work for you\, please search for NECAA Open Pentathlon in meets.rosterathletics.com \nFull details can be seen by downloading the entry form pdf 2023 Entry Form (1) \n  \n\n\n\nCONDITIONS OF ENTRY \n(Please read these most carefully )\n\n\nThe event is an open event incorporating the North Eastern Counties A.A. Championships 2023. Eligibility for the NECAA event is confined to  athletes born\, or having bone-fide residence for nine months prior to the date of the competition in the counties of Northumberland\, Durham\, Tyne & Wear or Cleveland. Competitors may compete in the Championships of only one County Association in any one calendar year. Residential qualification for persons serving in H.M. Forces is nine months. Uni residence during term time only does not qualify.\n\n\n\n\n\nAll NECAA athletes are eligible for the open pentathlon event as well as the NECAA Championships.\n\n\nUnder 13 Boys / Girls qualification\nUnder 13 Championships are confined to athletes who are aged 11 and 12 at midnight on 31st August 2023\n\n\n\n\n\n\nUnder 15 Boys / Girls qualification\nUnder 15 Championships are confined to athletes who are aged 13 and 14 at midnight on 31st August 2023\n\n\n\n\n\nUnder 17 Men / Women qualification\nUnder 17 Championships are confined to athletes who are aged 15 and 16 at midnight on 31st August 2023\n\n\n\n\n\nUnder 20 Men / Women qualification\nUnder 20 Championships are confined to athletes who are aged 17 or over at midnight on 31st August 2023 but under 20 at midnight on 31st December 2023.\n\n\n\n\n\n\nSenior Men / Women qualification\nThe Senior Championships are for athletes who are at least 20 years of age on 31st December 2023\n\n\n\n\n\nAthletes must wear the vest of their first-claim affiliated club\, or their County\, Territorial or National vest\, uka rule 17(3)\n\n\n\n\n\nEquipment : Throwing event competitors may use any implements provided for general use. Those who wish to use their own implements must submit them to the Referee for approval. An athlete may not use another’s implement without the owners prior permission.\n\n\n\n\n\n\nEnquiries to Keith Willshire: keithw53@keithw53.plus.com\n\n\nPlease Note:  Entry Numbers to the Open pentathlon will be restricted to the first 100\n\n\nOnline Entry only at Roster Athletics\n\n\nEntry Fees : £25.  Closing date for entries :  Monday 4th September 2023\n\n\nTimetable and entries will be published on www.necaa.co.uk    wc Monday 11th September
URL:https://necaa.co.uk/event/necaa-open-pentathlon-championships-september-16th-2023/
LOCATION:Monkton Stadium\, 54 Dene Terrace\, Hebburn\, Jarrow\, NE32 5NJ
CATEGORIES:NECAA Open,Pentathlon
END:VEVENT
END:VCALENDAR