BEGIN:VCALENDAR
VERSION:2.0
PRODID:-//North Eastern Counties Athletics Association - ECPv6.15.20//NONSGML v1.0//EN
CALSCALE:GREGORIAN
METHOD:PUBLISH
X-ORIGINAL-URL:https://necaa.co.uk
X-WR-CALDESC:Events for North Eastern Counties Athletics Association
REFRESH-INTERVAL;VALUE=DURATION:PT1H
X-Robots-Tag:noindex
X-PUBLISHED-TTL:PT1H
BEGIN:VTIMEZONE
TZID:UTC
BEGIN:STANDARD
TZOFFSETFROM:+0000
TZOFFSETTO:+0000
TZNAME:UTC
DTSTART:20250101T000000
END:STANDARD
END:VTIMEZONE
BEGIN:VEVENT
DTSTART;TZID=UTC:20260329T100000
DTEND;TZID=UTC:20260329T170000
DTSTAMP:20260424T214410
CREATED:20260202T145258Z
LAST-MODIFIED:20260328T210627Z
UID:2378-1774778400-1774803600@necaa.co.uk
SUMMARY:NECAA Open Indoor Pentathlon Championships
DESCRIPTION:  \n \nEntries for this competition are via Roster Athletics
URL:https://necaa.co.uk/event/necaa-open-indoor-pentathlon-championships/
LOCATION:Gateshead College Indoor Athletics Hall\, Neilson Road\, Gateshead\, ne10 0ef\, United Kingdom
CATEGORIES:NECAA Indoor,Pentathlon
ATTACH;FMTTYPE=image/jpeg:https://necaa.co.uk/wp-content/uploads/indoors-presentations.jpg
END:VEVENT
END:VCALENDAR