BEGIN:VCALENDAR
VERSION:2.0
PRODID:-//North Eastern Counties Athletics Association - ECPv6.15.20//NONSGML v1.0//EN
CALSCALE:GREGORIAN
METHOD:PUBLISH
X-ORIGINAL-URL:https://necaa.co.uk
X-WR-CALDESC:Events for North Eastern Counties Athletics Association
REFRESH-INTERVAL;VALUE=DURATION:PT1H
X-Robots-Tag:noindex
X-PUBLISHED-TTL:PT1H
BEGIN:VTIMEZONE
TZID:UTC
BEGIN:STANDARD
TZOFFSETFROM:+0000
TZOFFSETTO:+0000
TZNAME:UTC
DTSTART:20240101T000000
END:STANDARD
END:VTIMEZONE
BEGIN:VEVENT
DTSTART;TZID=UTC:20250430T183000
DTEND;TZID=UTC:20250813T210000
DTSTAMP:20260425T021406
CREATED:20250328T180348Z
LAST-MODIFIED:20250526T203845Z
UID:1974-1746037800-1755118800@necaa.co.uk
SUMMARY:NEGP 2025 Prospectus and Rules
DESCRIPTION:Each match will follow the same pattern (except NEGP 5\, see notes below)\, opening 2 weeks prior to each match\, at 7pm on the relevant Wednesday\, and closing a week before the match\, again at 7pm on the Wednesday. The season’s dates are shown below:- \nNEGP 1 – April 30th. Entries open @ 19:00 on Wed 16th April and close @ 19:00 on Wed 23rd April \nNEGP 2 – May 28th. Entries open @ 19:00 on Wed 14th May and close @ 19:00 on Wed 21st May \nNEGP 3 – June 18th. Entries open @ 19:00 on Wed 4th June and close @ 19:00 on Wed 11th June \nNEGP 4 – July 9th. Entries open @ 19:00 on Wed 25th June and close @ 19:00 on Wed 2nd July \nNEGP 5 – July 23rd. Entries open @ 22:00 on Wed 9th July and close @ 19:00 on Wed 16th July* \nNEGP 6 – August 13th. Entries open @ 19:00 on Wed 30th July and close @ 19:00 on Wed 6th August \n* Please note\, to facilitate entries from athletes competing at NEGP 4 on July 9th\, entries will not open for NEGP 5 until 22:00. This should allow plenty of time for athletes/parents to get home before entries open. \nThe full prospectus for all six NEGP matches is shown below and can be downloaded as a pdf HERE
URL:https://necaa.co.uk/event/negp-1-2025/
LOCATION:Monkton Stadium\, 54 Dene Terrace\, Hebburn\, Jarrow\, NE32 5NJ
CATEGORIES:NEGP
END:VEVENT
BEGIN:VEVENT
DTSTART;TZID=UTC:20250813T183000
DTEND;TZID=UTC:20250813T210000
DTSTAMP:20260425T021406
CREATED:20250521T220823Z
LAST-MODIFIED:20250521T221426Z
UID:2079-1755109800-1755118800@necaa.co.uk
SUMMARY:NEGP Series - NEGP 6 13th August 2025
DESCRIPTION:Please note\, entries will open at 7pm on 30th July and close at 7pm on the 6th August – no U13s are allowed in the 3\,000m\, triple jump and pole vault\, as indicated by the * below. If you’ve competed in this year’s NEGP\, you’ll need to input your bib number when you enter. If you haven’t got one yet\, or yours is lost\, please enter xxx or 999\, thank you.
URL:https://necaa.co.uk/event/negp-series-negp-6-13th-august-2025/
LOCATION:Monkton Stadium\, 54 Dene Terrace\, Hebburn\, Jarrow\, NE32 5NJ
CATEGORIES:NEGP
END:VEVENT
END:VCALENDAR